BEGIN:VCALENDAR
VERSION:2.0
PRODID:-//Consell De L’Audiovisual De La Comunitat Valenciana - ECPv6.0.10//NONSGML v1.0//EN
CALSCALE:GREGORIAN
METHOD:PUBLISH
X-WR-CALNAME:Consell De L’Audiovisual De La Comunitat Valenciana
X-ORIGINAL-URL:https://cdacv.es/es/
X-WR-CALDESC:Events for Consell De L’Audiovisual De La Comunitat Valenciana
REFRESH-INTERVAL;VALUE=DURATION:PT1H
X-Robots-Tag:noindex
X-PUBLISHED-TTL:PT1H
BEGIN:VTIMEZONE
TZID:Europe/Madrid
BEGIN:DAYLIGHT
TZOFFSETFROM:+0100
TZOFFSETTO:+0200
TZNAME:CEST
DTSTART:20260329T010000
END:DAYLIGHT
BEGIN:STANDARD
TZOFFSETFROM:+0200
TZOFFSETTO:+0100
TZNAME:CET
DTSTART:20261025T010000
END:STANDARD
END:VTIMEZONE
BEGIN:VEVENT
DTSTART;TZID=Europe/Madrid:20260305T093000
DTEND;TZID=Europe/Madrid:20260305T100000
DTSTAMP:20260421T125852
CREATED:20260303T103847Z
LAST-MODIFIED:20260303T103847Z
UID:4812-1772703000-1772704800@cdacv.es
SUMMARY:Comisión de Reglamentos y Registro de Prestadores
DESCRIPTION:Por videoconferencia
URL:https://cdacv.es/es/agenda/comision-de-reglamentos-y-registro-de-prestadores-48/
LOCATION:Comisión de Reglamentos y Registro de Prestadores
END:VEVENT
BEGIN:VEVENT
DTSTART;TZID=Europe/Madrid:20260305T100000
DTEND;TZID=Europe/Madrid:20260305T103000
DTSTAMP:20260421T125852
CREATED:20260303T104048Z
LAST-MODIFIED:20260303T104048Z
UID:4818-1772704800-1772706600@cdacv.es
SUMMARY:Comisión de Televisión\, Licencias y Contenidos
DESCRIPTION:Por videoconferencia
URL:https://cdacv.es/es/agenda/comision-de-television-licencias-y-contenidos-13/
LOCATION:Comisión de Reglamentos y Registro de Prestadores
END:VEVENT
BEGIN:VEVENT
DTSTART;TZID=Europe/Madrid:20260305T103000
DTEND;TZID=Europe/Madrid:20260305T110000
DTSTAMP:20260421T125852
CREATED:20260303T104141Z
LAST-MODIFIED:20260303T104141Z
UID:4820-1772706600-1772708400@cdacv.es
SUMMARY:Comisión de Radio\, Licencias y Contenidos
DESCRIPTION:Por videoconferencia
URL:https://cdacv.es/es/agenda/comision-de-radio-licencias-y-contenidos-22/
LOCATION:Comisión de Reglamentos y Registro de Prestadores
END:VEVENT
BEGIN:VEVENT
DTSTART;TZID=Europe/Madrid:20260305T110000
DTEND;TZID=Europe/Madrid:20260305T130000
DTSTAMP:20260421T125852
CREATED:20260217T115316Z
LAST-MODIFIED:20260217T115316Z
UID:4758-1772708400-1772715600@cdacv.es
SUMMARY:Encuentro con Rosa Rodríguez\, ganadora de Pasapalabra
DESCRIPTION:Aula 3 del edificio Atzavares\, UMH
URL:https://cdacv.es/es/agenda/encuentro-con-rosa-rodriguez-ganadora-de-pasapalabra-2/
LOCATION:Comisión de Reglamentos y Registro de Prestadores
END:VEVENT
END:VCALENDAR